BEGIN:VCALENDAR
VERSION:2.0
PRODID:-//Community Plate - ECPv5.0.2.1//NONSGML v1.0//EN
CALSCALE:GREGORIAN
METHOD:PUBLISH
X-WR-CALNAME:Community Plate
X-ORIGINAL-URL:https://communityplate.org.au
X-WR-CALDESC:Events for Community Plate
BEGIN:VTIMEZONE
TZID:Australia/Melbourne
BEGIN:STANDARD
TZOFFSETFROM:+1100
TZOFFSETTO:+1000
TZNAME:AEST
DTSTART:20200404T160000
END:STANDARD
BEGIN:DAYLIGHT
TZOFFSETFROM:+1000
TZOFFSETTO:+1100
TZNAME:AEDT
DTSTART:20201003T160000
END:DAYLIGHT
END:VTIMEZONE
BEGIN:VEVENT
DTSTART;TZID=Australia/Melbourne:20200304T200000
DTEND;TZID=Australia/Melbourne:20200305T000000
DTSTAMP:20200229T112652
CREATED:20171219T210000Z
LAST-MODIFIED:20171219T210000Z
UID:16836-1583352000-1583366400@communityplate.org.au
SUMMARY:Wednesday Main Street Mornington Market
DESCRIPTION:\n\n\n\n\n\n\nThe longest running market in Victoria. The market is a vibrant fun family day out and all the products the stallholders sell are homemade\, home grown or home baked. \n\n\n\n\n\n\n\n\n
URL:https://communityplate.org.au/event/wednesday-main-street-mornington-market/2020-03-04/
LOCATION:Main St Mornington\, Main Street\, Mornington\, Victoria\, Australia
END:VEVENT
BEGIN:VEVENT
DTSTART;TZID=Australia/Melbourne:20200311T200000
DTEND;TZID=Australia/Melbourne:20200312T000000
DTSTAMP:20200229T112652
CREATED:20171219T210000Z
LAST-MODIFIED:20171219T210000Z
UID:16838-1583956800-1583971200@communityplate.org.au
SUMMARY:Wednesday Main Street Mornington Market
DESCRIPTION:\n\n\n\n\n\n\nThe longest running market in Victoria. The market is a vibrant fun family day out and all the products the stallholders sell are homemade\, home grown or home baked. \n\n\n\n\n\n\n\n\n
URL:https://communityplate.org.au/event/wednesday-main-street-mornington-market/2020-03-11/
LOCATION:Main St Mornington\, Main Street\, Mornington\, Victoria\, Australia
END:VEVENT
BEGIN:VEVENT
DTSTART;TZID=Australia/Melbourne:20200315T190000
DTEND;TZID=Australia/Melbourne:20200316T000000
DTSTAMP:20200229T112652
CREATED:20190128T140453Z
LAST-MODIFIED:20190128T140453Z
UID:16839-1584298800-1584316800@communityplate.org.au
SUMMARY:Seaford Farmers Market
DESCRIPTION:\n\n\n\n\n\n\nOrganised by the Rotary Club of Frankston the market offers a diverse and seasonal range of fresh Victorian produce\, including value added products from the original producers. Operates on the third Sunday of each month from 8am to 1pm. \n\n\n\n\n\n\n\n\n
URL:https://communityplate.org.au/event/seaford-farmers-market/2020-03-15/
LOCATION:Broughton Reserve\, Station Street Seaford 3198\, Broughton Reserve\, Station Street\, Seaford\, Victoria\, Australia
END:VEVENT
BEGIN:VEVENT
DTSTART;TZID=Australia/Melbourne:20200318T200000
DTEND;TZID=Australia/Melbourne:20200319T000000
DTSTAMP:20200229T112652
CREATED:20171219T210000Z
LAST-MODIFIED:20171219T210000Z
UID:16840-1584561600-1584576000@communityplate.org.au
SUMMARY:Wednesday Main Street Mornington Market
DESCRIPTION:\n\n\n\n\n\n\nThe longest running market in Victoria. The market is a vibrant fun family day out and all the products the stallholders sell are homemade\, home grown or home baked. \n\n\n\n\n\n\n\n\n
URL:https://communityplate.org.au/event/wednesday-main-street-mornington-market/2020-03-18/
LOCATION:Main St Mornington\, Main Street\, Mornington\, Victoria\, Australia
END:VEVENT
BEGIN:VEVENT
DTSTART;TZID=Australia/Melbourne:20200322T200000
DTEND;TZID=Australia/Melbourne:20200323T000000
DTSTAMP:20200229T112652
CREATED:20190128T141142Z
LAST-MODIFIED:20190128T141142Z
UID:16856-1584907200-1584921600@communityplate.org.au
SUMMARY:Mount Eliza Farmers Market
DESCRIPTION:\n\n\n\n\n\n\nThe Mt Eliza Farmers’ Market is a not for profit initiative of the Mt Eliza Chamber of Commerce and is a great place to pick up the freshest local food and produce\, meet friends and enjoy Mt Eliza’s friendly village atmosphere. Operates on the fourth Sunday of each month\, rain hail or shine\, from 9am – 1pm. \n\n\n\n\n\n\n\n\n
URL:https://communityplate.org.au/event/mount-eliza-farmers-market/2020-03-22/
LOCATION:The Mount Eliza Village Green\, Mt Eliza Way\, The Mount Eliza Village Green\, Mt Eliza\, Victoria\, Australia
END:VEVENT
BEGIN:VEVENT
DTSTART;TZID=Australia/Melbourne:20200325T200000
DTEND;TZID=Australia/Melbourne:20200326T000000
DTSTAMP:20200229T112652
CREATED:20171219T210000Z
LAST-MODIFIED:20171219T210000Z
UID:16859-1585166400-1585180800@communityplate.org.au
SUMMARY:Wednesday Main Street Mornington Market
DESCRIPTION:\n\n\n\n\n\n\nThe longest running market in Victoria. The market is a vibrant fun family day out and all the products the stallholders sell are homemade\, home grown or home baked. \n\n\n\n\n\n\n\n\n
URL:https://communityplate.org.au/event/wednesday-main-street-mornington-market/2020-03-25/
LOCATION:Main St Mornington\, Main Street\, Mornington\, Victoria\, Australia
END:VEVENT
BEGIN:VEVENT
DTSTART;TZID=Australia/Melbourne:20200401T200000
DTEND;TZID=Australia/Melbourne:20200402T000000
DTSTAMP:20200229T112652
CREATED:20171219T210000Z
LAST-MODIFIED:20171219T210000Z
UID:16860-1585771200-1585785600@communityplate.org.au
SUMMARY:Wednesday Main Street Mornington Market
DESCRIPTION:\n\n\n\n\n\n\nThe longest running market in Victoria. The market is a vibrant fun family day out and all the products the stallholders sell are homemade\, home grown or home baked. \n\n\n\n\n\n\n\n\n
URL:https://communityplate.org.au/event/wednesday-main-street-mornington-market/2020-04-01/
LOCATION:Main St Mornington\, Main Street\, Mornington\, Victoria\, Australia
END:VEVENT
BEGIN:VEVENT
DTSTART;TZID=Australia/Melbourne:20200408T190000
DTEND;TZID=Australia/Melbourne:20200408T230000
DTSTAMP:20200229T112652
CREATED:20171219T210000Z
LAST-MODIFIED:20171219T210000Z
UID:16861-1586372400-1586386800@communityplate.org.au
SUMMARY:Wednesday Main Street Mornington Market
DESCRIPTION:\n\n\n\n\n\n\nThe longest running market in Victoria. The market is a vibrant fun family day out and all the products the stallholders sell are homemade\, home grown or home baked. \n\n\n\n\n\n\n\n\n
URL:https://communityplate.org.au/event/wednesday-main-street-mornington-market/2020-04-08/
LOCATION:Main St Mornington\, Main Street\, Mornington\, Victoria\, Australia
END:VEVENT
BEGIN:VEVENT
DTSTART;TZID=Australia/Melbourne:20200415T190000
DTEND;TZID=Australia/Melbourne:20200415T230000
DTSTAMP:20200229T112652
CREATED:20171219T210000Z
LAST-MODIFIED:20171219T210000Z
UID:16865-1586977200-1586991600@communityplate.org.au
SUMMARY:Wednesday Main Street Mornington Market
DESCRIPTION:\n\n\n\n\n\n\nThe longest running market in Victoria. The market is a vibrant fun family day out and all the products the stallholders sell are homemade\, home grown or home baked. \n\n\n\n\n\n\n\n\n
URL:https://communityplate.org.au/event/wednesday-main-street-mornington-market/2020-04-15/
LOCATION:Main St Mornington\, Main Street\, Mornington\, Victoria\, Australia
END:VEVENT
BEGIN:VEVENT
DTSTART;TZID=Australia/Melbourne:20200419T180000
DTEND;TZID=Australia/Melbourne:20200419T230000
DTSTAMP:20200229T112652
CREATED:20190128T140453Z
LAST-MODIFIED:20190128T140453Z
UID:16866-1587319200-1587337200@communityplate.org.au
SUMMARY:Seaford Farmers Market
DESCRIPTION:\n\n\n\n\n\n\nOrganised by the Rotary Club of Frankston the market offers a diverse and seasonal range of fresh Victorian produce\, including value added products from the original producers. Operates on the third Sunday of each month from 8am to 1pm. \n\n\n\n\n\n\n\n\n
URL:https://communityplate.org.au/event/seaford-farmers-market/2020-04-19/
LOCATION:Broughton Reserve\, Station Street Seaford 3198\, Broughton Reserve\, Station Street\, Seaford\, Victoria\, Australia
END:VEVENT
BEGIN:VEVENT
DTSTART;TZID=Australia/Melbourne:20200422T190000
DTEND;TZID=Australia/Melbourne:20200422T230000
DTSTAMP:20200229T112652
CREATED:20171219T210000Z
LAST-MODIFIED:20171219T210000Z
UID:16867-1587582000-1587596400@communityplate.org.au
SUMMARY:Wednesday Main Street Mornington Market
DESCRIPTION:\n\n\n\n\n\n\nThe longest running market in Victoria. The market is a vibrant fun family day out and all the products the stallholders sell are homemade\, home grown or home baked. \n\n\n\n\n\n\n\n\n
URL:https://communityplate.org.au/event/wednesday-main-street-mornington-market/2020-04-22/
LOCATION:Main St Mornington\, Main Street\, Mornington\, Victoria\, Australia
END:VEVENT
BEGIN:VEVENT
DTSTART;TZID=Australia/Melbourne:20200426T190000
DTEND;TZID=Australia/Melbourne:20200426T230000
DTSTAMP:20200229T112652
CREATED:20190128T141142Z
LAST-MODIFIED:20190128T141142Z
UID:16868-1587927600-1587942000@communityplate.org.au
SUMMARY:Mount Eliza Farmers Market
DESCRIPTION:\n\n\n\n\n\n\nThe Mt Eliza Farmers’ Market is a not for profit initiative of the Mt Eliza Chamber of Commerce and is a great place to pick up the freshest local food and produce\, meet friends and enjoy Mt Eliza’s friendly village atmosphere. Operates on the fourth Sunday of each month\, rain hail or shine\, from 9am – 1pm. \n\n\n\n\n\n\n\n\n
URL:https://communityplate.org.au/event/mount-eliza-farmers-market/2020-04-26/
LOCATION:The Mount Eliza Village Green\, Mt Eliza Way\, The Mount Eliza Village Green\, Mt Eliza\, Victoria\, Australia
END:VEVENT
BEGIN:VEVENT
DTSTART;TZID=Australia/Melbourne:20200429T190000
DTEND;TZID=Australia/Melbourne:20200429T230000
DTSTAMP:20200229T112652
CREATED:20171219T210000Z
LAST-MODIFIED:20171219T210000Z
UID:16869-1588186800-1588201200@communityplate.org.au
SUMMARY:Wednesday Main Street Mornington Market
DESCRIPTION:\n\n\n\n\n\n\nThe longest running market in Victoria. The market is a vibrant fun family day out and all the products the stallholders sell are homemade\, home grown or home baked. \n\n\n\n\n\n\n\n\n
URL:https://communityplate.org.au/event/wednesday-main-street-mornington-market/2020-04-29/
LOCATION:Main St Mornington\, Main Street\, Mornington\, Victoria\, Australia
END:VEVENT
BEGIN:VEVENT
DTSTART;TZID=Australia/Melbourne:20200506T190000
DTEND;TZID=Australia/Melbourne:20200506T230000
DTSTAMP:20200229T112652
CREATED:20171219T210000Z
LAST-MODIFIED:20171219T210000Z
UID:16871-1588791600-1588806000@communityplate.org.au
SUMMARY:Wednesday Main Street Mornington Market
DESCRIPTION:\n\n\n\n\n\n\nThe longest running market in Victoria. The market is a vibrant fun family day out and all the products the stallholders sell are homemade\, home grown or home baked. \n\n\n\n\n\n\n\n\n
URL:https://communityplate.org.au/event/wednesday-main-street-mornington-market/2020-05-06/
LOCATION:Main St Mornington\, Main Street\, Mornington\, Victoria\, Australia
END:VEVENT
BEGIN:VEVENT
DTSTART;TZID=Australia/Melbourne:20200513T190000
DTEND;TZID=Australia/Melbourne:20200513T230000
DTSTAMP:20200229T112652
CREATED:20171219T210000Z
LAST-MODIFIED:20171219T210000Z
UID:16873-1589396400-1589410800@communityplate.org.au
SUMMARY:Wednesday Main Street Mornington Market
DESCRIPTION:\n\n\n\n\n\n\nThe longest running market in Victoria. The market is a vibrant fun family day out and all the products the stallholders sell are homemade\, home grown or home baked. \n\n\n\n\n\n\n\n\n
URL:https://communityplate.org.au/event/wednesday-main-street-mornington-market/2020-05-13/
LOCATION:Main St Mornington\, Main Street\, Mornington\, Victoria\, Australia
END:VEVENT
BEGIN:VEVENT
DTSTART;TZID=Australia/Melbourne:20200513T190000
DTEND;TZID=Australia/Melbourne:20200513T230000
DTSTAMP:20200229T112652
CREATED:20171219T210000Z
LAST-MODIFIED:20171219T210000Z
UID:16874-1589396400-1589410800@communityplate.org.au
SUMMARY:Wednesday Main Street Mornington Market
DESCRIPTION:\n\n\n\n\n\n\nThe longest running market in Victoria. The market is a vibrant fun family day out and all the products the stallholders sell are homemade\, home grown or home baked. \n\n\n\n\n\n\n\n\n
URL:https://communityplate.org.au/event/wednesday-main-street-mornington-market/2020-05-13/
LOCATION:Main St Mornington\, Main Street\, Mornington\, Victoria\, Australia
END:VEVENT
BEGIN:VEVENT
DTSTART;TZID=Australia/Melbourne:20200517T180000
DTEND;TZID=Australia/Melbourne:20200517T230000
DTSTAMP:20200229T112652
CREATED:20190128T140453Z
LAST-MODIFIED:20190128T140453Z
UID:16875-1589738400-1589756400@communityplate.org.au
SUMMARY:Seaford Farmers Market
DESCRIPTION:\n\n\n\n\n\n\nOrganised by the Rotary Club of Frankston the market offers a diverse and seasonal range of fresh Victorian produce\, including value added products from the original producers. Operates on the third Sunday of each month from 8am to 1pm. \n\n\n\n\n\n\n\n\n
URL:https://communityplate.org.au/event/seaford-farmers-market/2020-05-17/
LOCATION:Broughton Reserve\, Station Street Seaford 3198\, Broughton Reserve\, Station Street\, Seaford\, Victoria\, Australia
END:VEVENT
BEGIN:VEVENT
DTSTART;TZID=Australia/Melbourne:20200520T190000
DTEND;TZID=Australia/Melbourne:20200520T230000
DTSTAMP:20200229T112652
CREATED:20171219T210000Z
LAST-MODIFIED:20171219T210000Z
UID:16876-1590001200-1590015600@communityplate.org.au
SUMMARY:Wednesday Main Street Mornington Market
DESCRIPTION:\n\n\n\n\n\n\nThe longest running market in Victoria. The market is a vibrant fun family day out and all the products the stallholders sell are homemade\, home grown or home baked. \n\n\n\n\n\n\n\n\n
URL:https://communityplate.org.au/event/wednesday-main-street-mornington-market/2020-05-20/
LOCATION:Main St Mornington\, Main Street\, Mornington\, Victoria\, Australia
END:VEVENT
BEGIN:VEVENT
DTSTART;TZID=Australia/Melbourne:20200524T190000
DTEND;TZID=Australia/Melbourne:20200524T230000
DTSTAMP:20200229T112652
CREATED:20190128T141142Z
LAST-MODIFIED:20190128T141142Z
UID:16878-1590346800-1590361200@communityplate.org.au
SUMMARY:Mount Eliza Farmers Market
DESCRIPTION:\n\n\n\n\n\n\nThe Mt Eliza Farmers’ Market is a not for profit initiative of the Mt Eliza Chamber of Commerce and is a great place to pick up the freshest local food and produce\, meet friends and enjoy Mt Eliza’s friendly village atmosphere. Operates on the fourth Sunday of each month\, rain hail or shine\, from 9am – 1pm. \n\n\n\n\n\n\n\n\n
URL:https://communityplate.org.au/event/mount-eliza-farmers-market/2020-05-24/
LOCATION:The Mount Eliza Village Green\, Mt Eliza Way\, The Mount Eliza Village Green\, Mt Eliza\, Victoria\, Australia
END:VEVENT
BEGIN:VEVENT
DTSTART;TZID=Australia/Melbourne:20200527T190000
DTEND;TZID=Australia/Melbourne:20200527T230000
DTSTAMP:20200229T112652
CREATED:20171219T210000Z
LAST-MODIFIED:20171219T210000Z
UID:16879-1590606000-1590620400@communityplate.org.au
SUMMARY:Wednesday Main Street Mornington Market
DESCRIPTION:\n\n\n\n\n\n\nThe longest running market in Victoria. The market is a vibrant fun family day out and all the products the stallholders sell are homemade\, home grown or home baked. \n\n\n\n\n\n\n\n\n
URL:https://communityplate.org.au/event/wednesday-main-street-mornington-market/2020-05-27/
LOCATION:Main St Mornington\, Main Street\, Mornington\, Victoria\, Australia
END:VEVENT
END:VCALENDAR